BEGIN:VCALENDAR
VERSION:2.0
PRODID:-//Plone.org//NONSGML plone.app.event//EN
X-WR-TIMEZONE:Europe/Madrid
BEGIN:VEVENT
SUMMARY:probando eventos
DTSTART;TZID=Europe/Madrid:20100915T172000
DTEND;TZID=Europe/Madrid:20100916T172000
DTSTAMP:20260421T023758Z
UID:b6be59b66fbf949b53735220c584e940@peter6.upc.edu:11901
CREATED:20100915T151900Z
LAST-MODIFIED:20100915T151900Z
URL:https://cudu.upc.edu/es/eventos/probando-eventos
END:VEVENT
BEGIN:VTIMEZONE
TZID:Europe/Madrid
X-LIC-LOCATION:Europe/Madrid
BEGIN:DAYLIGHT
DTSTART:20100328T030000
TZNAME:CEST
TZOFFSETFROM:+0100
TZOFFSETTO:+0200
END:DAYLIGHT
END:VTIMEZONE
END:VCALENDAR
