BEGIN:VCALENDAR
VERSION:2.0
PRODID:-//Plone.org//NONSGML plone.app.event//EN
X-WR-TIMEZONE:Europe/Madrid
BEGIN:VEVENT
SUMMARY:probando eventos
DTSTART;TZID=Europe/Madrid:20100915T172000
DTEND;TZID=Europe/Madrid:20100916T172000
DTSTAMP:20260424T070743Z
UID:b6be59b66fbf949b53735220c584e940@peter6.upc.edu:11901
CREATED:20100915T151900Z
LAST-MODIFIED:20100915T151900Z
URL:https://cudu.upc.edu/es/eventos/probando-eventos
END:VEVENT
BEGIN:VEVENT
SUMMARY:Dirección Estratégica de las Universidades (DEU)\, 16a edición
DTSTART;TZID=Europe/Madrid:20111102T000000
DTEND;TZID=Europe/Madrid:20111109T000000
DTSTAMP:20260424T070743Z
UID:9ed6b22e44b5c28166fa1eb75611331e@peter6.upc.edu:11901
CREATED:20110712T074500Z
LAST-MODIFIED:20110712T081900Z
URL:https://cudu.upc.edu/es/eventos/direccion-estrategica-de-las-universid
 ades-deu-16a-edicion
END:VEVENT
BEGIN:VEVENT
SUMMARY:Dirigir Personas en Instituciones de Educación Superior (DIPE)\, 
 3a edición
DTSTART;TZID=Europe/Madrid:20111123T000000
DTEND;TZID=Europe/Madrid:20111130T000000
DTSTAMP:20260424T070743Z
UID:ef28d4a77ab5b5b699b24bd9584ecc7d@peter6.upc.edu:11901
CREATED:20110712T093300Z
LAST-MODIFIED:20160229T071100Z
URL:https://cudu.upc.edu/es/eventos/dirigir-personas-en-instituciones-de-e
 ducacion-superior-dipe-3a-edicion
END:VEVENT
BEGIN:VTIMEZONE
TZID:Europe/Madrid
X-LIC-LOCATION:Europe/Madrid
BEGIN:DAYLIGHT
DTSTART:20100328T030000
TZNAME:CEST
TZOFFSETFROM:+0100
TZOFFSETTO:+0200
END:DAYLIGHT
BEGIN:STANDARD
DTSTART:20111030T020000
TZNAME:CET
TZOFFSETFROM:+0200
TZOFFSETTO:+0100
END:STANDARD
END:VTIMEZONE
END:VCALENDAR
